Workbook
Name OpenNameManagerTaskpane: 'Detailed Inventory'!$H$4:$H$4
Name UpSys_Mat: Dropdowns!$C$2:$C$7
Name UpSys_Mat2: Dropdowns!$C$2:$C$8

Sheet Inventory Report
A1: SERVICE LINE AND CONNECTOR INVENTORY REPORT
A2: LEAD AND COPPER RULE IMPROVEMENTS (LCRI)
A3: Note: Required fields are marked with an asterisk * and a thick, red border. Fillable fields are highlighted in blue. Auto-populated fields are highlighted in light gray and cannot be edited directly. Please submit completed inventories to DDW-LCR@waterboards.ca.gov for review.
B5: 1. Submission Type* | D5: Select
B7: 2. Reporting Period* | D7: Select
A9: WATER SYSTEM INFORMATION
B11: 3. Water System Number (PWSID)* | D11: CA0000000
B13: 4. Water System Name
B15: 5. Water System Mailing Address | D15: Address
D16: City, State Zip Code
B18: 6. Water System Type | D18: Select
B20: 7. Population Served (number of people)
B22: 8. Number of Service Connections*
B24: 9. Number of Service Lines in Detailed Inventory | D24: =$D$119 -> 0
C26: a. Service Line Ownership Type* | D26: Select
C29: b. Other Service Line Information
C30: e.g., explain service line ownership or any discrepancy between the number of service lines and service connections
B32: 10. System Administrative Contact*
C33: Full Name*
C34: Title / Affiliation
C35: Phone*
C36: Email*
B38: 11. Inventory Preparer (if different from above)
C39: Full Name
C40: Title / Affiliation
C41: Phone
C42: Email
A44: INVENTORY METHODOLOGY
B46: 12. Describe Historical Records Reviewed* (enter "NA" if not available)
B47: Note: Water systems are required to review all historical records that may indicate service line or connector materials or other information.
C49: a. Construction Records and Plumbing Codes*
C50: e.g., local ordinance adopting an international plumbing code, permits for replacing service lines, etc.
C52: b. Water System Records*
C53: e.g., capital improvement plans, standard operating procedures, engineering standards, etc.
C55: c. Distribution System Records*
C56: e.g., distribution system maps, tap cards, line repair or replacements, inspections, meter installations, etc.
C58: d. Other Records
C59: e.g., county assessor, geographic timeline maps, etc.
B61: 13. Data Collection During Normal Operation Activities
B62: Note: Water systems are required to identify and update the materials and addresses of service lines and connectors as they are encountered in the course of normal operations. Indicate the normal operation activities during which service line and connector information is collected.
C64: Water Meter Reading | D64: Select
C65: Water Meter Repair or Replacement | D65: Select
C66: Water Main Repair or Replacement | D66: Select
C67: Service Line Repair or Replacement | D67: Select
C68: Backflow Prevention Device Inspection | D68: Select
C69: Other (describe)
B71: 14. Service Line and Connector Investigation Methods Used
B72: Note: Information in the light gray fields will auto-populate based on the Detailed Inventory worksheet.
C74: Records | D74: {=IF(SUM(COUNTIF('Detailed Inventory'!$F$6:$U$105,{"Historical records","Service line repair or replacement record"}))>0,"Yes","No")} -> No
C75: Field Inspection | D75: {=IF(SUM(COUNTIF('Detailed Inventory'!$F$6:$U$105,{"Field inspection","Visual inspection","Mechanical excavation"}))>0,"Yes","No")} -> No
C76: Pipe Dating | D76: =IF(SUM(COUNTIF('Detailed Inventory'!$F$6:$U$105,"Installation date is after state or local lead ban")),"Yes","No") -> No
C77: Pipe Diameter | D77: =IF(SUM(COUNTIF('Detailed Inventory'!$F$6:$U$105,"Service line diameter 4 inches or greater")),"Yes","No") -> No
C78: Statistical Analysis or Predictive Models | D78: {=IF(SUM(COUNTIF('Detailed Inventory'!$F$6:$U$105,{"Statistical analysis","Statistical analysis or predictive models","Interpolation"}))>0,"Yes","No")} -> No
C79: Recent Replacement or Removal | D79: {=IF(SUM(COUNTIF('Detailed Inventory'!$F$6:$U$105,{"Replaced - previously Lead","Removed","Replaced - previously Non-Lead/Galvanized"}))>0,"Yes","No")} -> No
C80: Interviews (water system staff, operators) | D80: Select
C81: Other or Emerging Methods (describe)
A83: PUBLIC ACCESSIBILITY DOCUMENTATION
A84: Note: Information from this worksheet AND the Detailed Inventory worksheet must be publicly accessible. Water systems serving over 50,000 people must provide the inventory online. Only water systems with ALL non-lead service lines AND connectors may make a written non-lead statement publicly accessible in place of the inventory.
B85: 15. How is the system making the inventory publicly accessible?*
B86: Note: Various forms of the inventory can be provided to the public to meet the accessibility requirement. Indicate the method(s) used to make the inventory publicly accessible.
C88: Online interactive service line map | D88: Select
C89: Online static service line map | D89: Select
C90: Online spreadsheet/tabular data | D90: Select
C91: Printed service line map | D91: Select
C92: Printed spreadsheet/tabular data | D92: Select
C93: Printed information in utility mailings or newsletter | D93: Select
C94: Printed information in water system office | D94: Select
C95: Inventory provided upon request | D95: Select
C96: Written Non-lead Statement | D96: Select
C97: Other (describe)
C98: e.g., other formats used, other locations where inventory information is made available, link to webpage if posted online, etc.
A100: OTHER INVENTORY INFORMATION
B102: 16. Provide any additional information about the inventory.
A106: DETAILED INVENTORY SUMMARY
A107: Note: Information in the light gray fields of this section will auto-populate based on the Detailed Inventory worksheet.
B109: 17. Materials Reported for Service Lines
B110: Note: Systems must count each entire service line once with a single material categorization. Where service line ownership is shared between the system and customer or split between an upstream and a downstream portion, the entire line is categorized based on the material of each portion.
C112: a. Summary of Entire Service Lines
C114: Material Classification | D114: Number of Entire Service Lines
C115: Lead | D115: =COUNTIF('Detailed Inventory'!$AB$6:$AB$105,"Lead") -> 0
C116: Galvanized Requiring Replacement | D116: =COUNTIF('Detailed Inventory'!$AB$6:$AB$105,"Galvanized Requiring Replacement") -> 0
C117: Lead Status Unknown | D117: =COUNTIF('Detailed Inventory'!$AB$6:$AB$105,"Lead Status Unknown") -> 0
C118: Non-Lead | D118: =COUNTIF('Detailed Inventory'!$AB$6:$AB$105,"Non-Lead") -> 0
C119: Total Entire Service Lines Reported | D119: =SUM(D115:E118) -> 0
C122: b. Summary by Service Line Portion / Ownership
D123: Upstream / | E123: Downstream /
C124: Material Classification | D124: System-Owned | E124: Customer-Owned
C125: Lead | D125: =COUNTIF('Detailed Inventory'!$I$6:$I$105,"Lead") -> 0 | E125: =COUNTIF('Detailed Inventory'!$T$6:$T$105,"Lead") -> 0
C126: Galvanized | D126: =COUNTIF('Detailed Inventory'!$I$6:$I$105,"Galvanized") -> 0 | E126: =COUNTIF('Detailed Inventory'!$T$6:$T$105,"Galvanized") -> 0
C127: Galvanized Requiring Replacement | D127: =COUNTIF('Detailed Inventory'!$I$6:$I$105,"Galvanized Requiring Replacement") -> 0 | E127: =COUNTIF('Detailed Inventory'!$T$6:$T$105,"Galvanized Requiring Replacement") -> 0
C128: Non-Lead - Copper | D128: =COUNTIF('Detailed Inventory'!$I$6:$I$105,"Non-Lead - Copper") -> 0 | E128: =COUNTIF('Detailed Inventory'!$T$6:$T$105,"Non-Lead - Copper") -> 0
C129: Non-Lead - Plastic | D129: =COUNTIF('Detailed Inventory'!$I$6:$I$105,"Non-Lead - Plastic") -> 0 | E129: =COUNTIF('Detailed Inventory'!$T$6:$T$105,"Non-Lead - Plastic") -> 0
C130: Non-Lead - Other | D130: =COUNTIF('Detailed Inventory'!$I$6:$I$105,"Non-Lead - Other") -> 0 | E130: =COUNTIF('Detailed Inventory'!$T$6:$T$105,"Non-Lead - Other") -> 0
C131: Unknown | D131: =COUNTIF('Detailed Inventory'!$I$6:$I$105,"Unknown") -> 0 | E131: =COUNTIF('Detailed Inventory'!$T$6:$T$105,"Unknown") -> 0
C132: Total | D132: =SUM(D125:D131) -> 0 | E132: =SUM(E125:E131) -> 0
B135: 18. Materials Reported for Connectors
B136: Note: The Detailed Inventory worksheet allows two connector entries to be reported per service line, so the total number of connectors reported should equal twice the total number of entire service lines reported. Please consult with the DDW Lead and Copper Unit if there is a service line in the distribution system that has more than two connectors present.
C138: Material Classification | D138: Number of Connectors
C139: Lead | D139: =COUNTIF('Detailed Inventory'!$E$6:$E$105,"Lead")+COUNTIF('Detailed Inventory'!$Q$6:$Q$105,"Lead") -> 0
C140: Unknown | D140: =COUNTIF('Detailed Inventory'!$E$6:$E$105,"Unknown")+COUNTIF('Detailed Inventory'!$Q$6:$Q$105,"Unknown") -> 0
...

Sheet Detailed Inventory
B1: =UPPER('Inventory Report'!D11) -> CA0000000 | C1: ='Inventory Report'!D7 -> Select | D1: DETAILED INVENTORY
B2: Unique Location Identifier | D2: System ID | E2: Up/Sys - Upstream / System-Owned Portion (closest to source/water main) | Q2: Down/Cus - Downstream / Customer-Owned Portion (closest to building plumbing) | AB2: Entire Service Line
B3: Required | C3: Required if street address is not available | D3: Optional | E3: Required | F3: Required unless material is unknown | G3: Required if basis is other | H3: Required | I3: Required | J3: Required unless material is unknown | K3: Required if basis is installation after lead ban | L3: Required if basis is service line diameter | M3: Required if basis is field inspection | N3: Required if basis is field inspection | O3: Required if basis is replaced | P3: Required if basis is other | Q3: Required | R3: Required unless material is unknown | S3: Required if basis is other | T3: Required | U3: Required unless material is unknown | V3: Required if basis is installation after lead ban | W3: Required if basis is service line diameter | X3: Required if basis is field inspection | Y3: Required if basis is field inspection | Z3: Required if basis is replaced | AA3: Required if basis is other | AB3: Required (auto-calculated) | AD3: *These would be hidden. They may weigh down the spreadsheet, though, unless # rows in formula is reduced (e.g., only 5000 rather than 100k)
A4: Service Line # | B4: Street Address | C4: Other Locational Identifier | D4: System Service Line Identifier | E4: Up/Sys Connector Material | F4: Up/Sys Connector Basis of Material Classification | G4: Up/Sys Connector Notes | H4: Up/Sys Was Service Line Ever Previously Lead? | I4: Up/Sys Service Line Material | J4: Up/Sys Service Line Basis of Material Classification | K4: Up/Sys Service Line Installation Year | L4: Up/Sys Service Line Diameter (inches) | M4: Up/Sys Service Line Field Verification Method | N4: Up/Sys Service Line Field Verification Date | O4: Up/Sys Service Line Replacement Date | P4: Up/Sys Service Line Notes | Q4: Down/Cus Connector Material | R4: Down/Cus Connector Basis of Material Classification | S4: Down/Cus Connector Notes | T4: Down/Cus Service Line Material | U4: Down/Cus Service Line Basis of Material Classification | V4: Down/Cus Service Line Installation Year | W4: Down/Cus Service Line Diameter (inches) | X4: Down/Cus Service Line Field Verification Method | Y4: Down/Cus Service Line Field Verification Date | Z4: Down/Cus Service Line Replacement Date | AA4: Down/Cus Service Line Notes | AB4: Entire Service Line Material Classification | AD4: Dup Address | AE4: Dup Other Locational Identifier
A5: A | B5: B | C5: C | D5: D | E5: E | F5: F | G5: G | H5: H | I5: I | J5: J | K5: K | L5: L | M5: M | N5: N | O5: O | P5: P | Q5: Q | R5: R | S5: S | T5: T | U5: U | V5: V | W5: W | X5: X | Y5: Y | Z5: Z | AA5: AA | AB5: AB
A6: 1 | AB6: {=IFERROR(IF(COUNTA('Detailed Inventory'!$B6:$AA6)=0,"",IF(AND($B6="",$C6=""),"Error: Missing Response in Column B or C",IF(OR($E6="",$Q6=""),"Error: Missing Response in Column E or Q",INDEX(SL_Class[Entire SL Classification],MATCH(SUMIFS(SL_Class[Unique ID],SL_Class[UpSys SL Material],I6,SL_Class[UpSys Ever Previously Lead],H6,SL_Class[DownCus SL Material],T6),SL_Class[Unique ID],0),0)))),"Error: Invalid Column H, I, or T. Check spelling & valid options (see dropdown)")} | AD6: =COUNTIFS($B$6:$B$105,"<>0",$B$6:$B$105,"<>",$B$6:$B$105,B6)>1 -> FALSE | AE6: =COUNTIFS($C$6:$C$105,"<>0",$C$6:$C$105,"<>",$C$6:$C$105,C6)>1 -> FALSE
A7: 2 | AB7: {=IFERROR(IF(COUNTA('Detailed Inventory'!$B7:$AA7)=0,"",IF(AND($B7="",$C7=""),"Error: Missing Response in Column B or C",IF(OR($E7="",$Q7=""),"Error: Missing Response in Column E or Q",INDEX(SL_Class[Entire SL Classification],MATCH(SUMIFS(SL_Class[Unique ID],SL_Class[UpSys SL Material],I7,SL_Class[UpSys Ever Previously Lead],H7,SL_Class[DownCus SL Material],T7),SL_Class[Unique ID],0),0)))),"Error: Invalid Column H, I, or T. Check spelling & valid options (see dropdown)")} | AD7: =COUNTIFS($B$6:$B$105,"<>0",$B$6:$B$105,"<>",$B$6:$B$105,B7)>1 -> FALSE | AE7: =COUNTIFS($C$6:$C$105,"<>0",$C$6:$C$105,"<>",$C$6:$C$105,C7)>1 -> FALSE
A8: 3 | AB8: {=IFERROR(IF(COUNTA('Detailed Inventory'!$B8:$AA8)=0,"",IF(AND($B8="",$C8=""),"Error: Missing Response in Column B or C",IF(OR($E8="",$Q8=""),"Error: Missing Response in Column E or Q",INDEX(SL_Class[Entire SL Classification],MATCH(SUMIFS(SL_Class[Unique ID],SL_Class[UpSys SL Material],I8,SL_Class[UpSys Ever Previously Lead],H8,SL_Class[DownCus SL Material],T8),SL_Class[Unique ID],0),0)))),"Error: Invalid Column H, I, or T. Check spelling & valid options (see dropdown)")} | AD8: =COUNTIFS($B$6:$B$105,"<>0",$B$6:$B$105,"<>",$B$6:$B$105,B8)>1 -> FALSE | AE8: =COUNTIFS($C$6:$C$105,"<>0",$C$6:$C$105,"<>",$C$6:$C$105,C8)>1 -> FALSE
A9: 4 | AB9: {=IFERROR(IF(COUNTA('Detailed Inventory'!$B9:$AA9)=0,"",IF(AND($B9="",$C9=""),"Error: Missing Response in Column B or C",IF(OR($E9="",$Q9=""),"Error: Missing Response in Column E or Q",INDEX(SL_Class[Entire SL Classification],MATCH(SUMIFS(SL_Class[Unique ID],SL_Class[UpSys SL Material],I9,SL_Class[UpSys Ever Previously Lead],H9,SL_Class[DownCus SL Material],T9),SL_Class[Unique ID],0),0)))),"Error: Invalid Column H, I, or T. Check spelling & valid options (see dropdown)")} | AD9: =COUNTIFS($B$6:$B$105,"<>0",$B$6:$B$105,"<>",$B$6:$B$105,B9)>1 -> FALSE | AE9: =COUNTIFS($C$6:$C$105,"<>0",$C$6:$C$105,"<>",$C$6:$C$105,C9)>1 -> FALSE
A10: 5 | AB10: {=IFERROR(IF(COUNTA('Detailed Inventory'!$B10:$AA10)=0,"",IF(AND($B10="",$C10=""),"Error: Missing Response in Column B or C",IF(OR($E10="",$Q10=""),"Error: Missing Response in Column E or Q",INDEX(SL_Class[Entire SL Classification],MATCH(SUMIFS(SL_Class[Unique ID],SL_Class[UpSys SL Material],I10,SL_Class[UpSys Ever Previously Lead],H10,SL_Class[DownCus SL Material],T10),SL_Class[Unique ID],0),0)))),"Error: Invalid Column H, I, or T. Check spelling & valid options (see dropdown)")} | AD10: =COUNTIFS($B$6:$B$105,"<>0",$B$6:$B$105,"<>",$B$6:$B$105,B10)>1 -> FALSE | AE10: =COUNTIFS($C$6:$C$105,"<>0",$C$6:$C$105,"<>",$C$6:$C$105,C10)>1 -> FALSE
A11: 6 | AB11: {=IFERROR(IF(COUNTA('Detailed Inventory'!$B11:$AA11)=0,"",IF(AND($B11="",$C11=""),"Error: Missing Response in Column B or C",IF(OR($E11="",$Q11=""),"Error: Missing Response in Column E or Q",INDEX(SL_Class[Entire SL Classification],MATCH(SUMIFS(SL_Class[Unique ID],SL_Class[UpSys SL Material],I11,SL_Class[UpSys Ever Previously Lead],H11,SL_Class[DownCus SL Material],T11),SL_Class[Unique ID],0),0)))),"Error: Invalid Column H, I, or T. Check spelling & valid options (see dropdown)")} | AD11: =COUNTIFS($B$6:$B$105,"<>0",$B$6:$B$105,"<>",$B$6:$B$105,B11)>1 -> FALSE | AE11: =COUNTIFS($C$6:$C$105,"<>0",$C$6:$C$105,"<>",$C$6:$C$105,C11)>1 -> FALSE
A12: 7 | AB12: {=IFERROR(IF(COUNTA('Detailed Inventory'!$B12:$AA12)=0,"",IF(AND($B12="",$C12=""),"Error: Missing Response in Column B or C",IF(OR($E12="",$Q12=""),"Error: Missing Response in Column E or Q",INDEX(SL_Class[Entire SL Classification],MATCH(SUMIFS(SL_Class[Unique ID],SL_Class[UpSys SL Material],I12,SL_Class[UpSys Ever Previously Lead],H12,SL_Class[DownCus SL Material],T12),SL_Class[Unique ID],0),0)))),"Error: Invalid Column H, I, or T. Check spelling & valid options (see dropdown)")} | AD12: =COUNTIFS($B$6:$B$105,"<>0",$B$6:$B$105,"<>",$B$6:$B$105,B12)>1 -> FALSE | AE12: =COUNTIFS($C$6:$C$105,"<>0",$C$6:$C$105,"<>",$C$6:$C$105,C12)>1 -> FALSE
A13: 8 | AB13: {=IFERROR(IF(COUNTA('Detailed Inventory'!$B13:$AA13)=0,"",IF(AND($B13="",$C13=""),"Error: Missing Response in Column B or C",IF(OR($E13="",$Q13=""),"Error: Missing Response in Column E or Q",INDEX(SL_Class[Entire SL Classification],MATCH(SUMIFS(SL_Class[Unique ID],SL_Class[UpSys SL Material],I13,SL_Class[UpSys Ever Previously Lead],H13,SL_Class[DownCus SL Material],T13),SL_Class[Unique ID],0),0)))),"Error: Invalid Column H, I, or T. Check spelling & valid options (see dropdown)")} | AD13: =COUNTIFS($B$6:$B$105,"<>0",$B$6:$B$105,"<>",$B$6:$B$105,B13)>1 -> FALSE | AE13: =COUNTIFS($C$6:$C$105,"<>0",$C$6:$C$105,"<>",$C$6:$C$105,C13)>1 -> FALSE
A14: 9 | AB14: {=IFERROR(IF(COUNTA('Detailed Inventory'!$B14:$AA14)=0,"",IF(AND($B14="",$C14=""),"Error: Missing Response in Column B or C",IF(OR($E14="",$Q14=""),"Error: Missing Response in Column E or Q",INDEX(SL_Class[Entire SL Classification],MATCH(SUMIFS(SL_Class[Unique ID],SL_Class[UpSys SL Material],I14,SL_Class[UpSys Ever Previously Lead],H14,SL_Class[DownCus SL Material],T14),SL_Class[Unique ID],0),0)))),"Error: Invalid Column H, I, or T. Check spelling & valid options (see dropdown)")} | AD14: =COUNTIFS($B$6:$B$105,"<>0",$B$6:$B$105,"<>",$B$6:$B$105,B14)>1 -> FALSE | AE14: =COUNTIFS($C$6:$C$105,"<>0",$C$6:$C$105,"<>",$C$6:$C$105,C14)>1 -> FALSE
A15: 10 | AB15: {=IFERROR(IF(COUNTA('Detailed Inventory'!$B15:$AA15)=0,"",IF(AND($B15="",$C15=""),"Error: Missing Response in Column B or C",IF(OR($E15="",$Q15=""),"Error: Missing Response in Column E or Q",INDEX(SL_Class[Entire SL Classification],MATCH(SUMIFS(SL_Class[Unique ID],SL_Class[UpSys SL Material],I15,SL_Class[UpSys Ever Previously Lead],H15,SL_Class[DownCus SL Material],T15),SL_Class[Unique ID],0),0)))),"Error: Invalid Column H, I, or T. Check spelling & valid options (see dropdown)")} | AD15: =COUNTIFS($B$6:$B$105,"<>0",$B$6:$B$105,"<>",$B$6:$B$105,B15)>1 -> FALSE | AE15: =COUNTIFS($C$6:$C$105,"<>0",$C$6:$C$105,"<>",$C$6:$C$105,C15)>1 -> FALSE
A16: 11 | AB16: {=IFERROR(IF(COUNTA('Detailed Inventory'!$B16:$AA16)=0,"",IF(AND($B16="",$C16=""),"Error: Missing Response in Column B or C",IF(OR($E16="",$Q16=""),"Error: Missing Response in Column E or Q",INDEX(SL_Class[Entire SL Classification],MATCH(SUMIFS(SL_Class[Unique ID],SL_Class[UpSys SL Material],I16,SL_Class[UpSys Ever Previously Lead],H16,SL_Class[DownCus SL Material],T16),SL_Class[Unique ID],0),0)))),"Error: Invalid Column H, I, or T. Check spelling & valid options (see dropdown)")} | AD16: =COUNTIFS($B$6:$B$105,"<>0",$B$6:$B$105,"<>",$B$6:$B$105,B16)>1 -> FALSE | AE16: =COUNTIFS($C$6:$C$105,"<>0",$C$6:$C$105,"<>",$C$6:$C$105,C16)>1 -> FALSE
A17: 12 | AB17: {=IFERROR(IF(COUNTA('Detailed Inventory'!$B17:$AA17)=0,"",IF(AND($B17="",$C17=""),"Error: Missing Response in Column B or C",IF(OR($E17="",$Q17=""),"Error: Missing Response in Column E or Q",INDEX(SL_Class[Entire SL Classification],MATCH(SUMIFS(SL_Class[Unique ID],SL_Class[UpSys SL Material],I17,SL_Class[UpSys Ever Previously Lead],H17,SL_Class[DownCus SL Material],T17),SL_Class[Unique ID],0),0)))),"Error: Invalid Column H, I, or T. Check spelling & valid options (see dropdown)")} | AD17: =COUNTIFS($B$6:$B$105,"<>0",$B$6:$B$105,"<>",$B$6:$B$105,B17)>1 -> FALSE | AE17: =COUNTIFS($C$6:$C$105,"<>0",$C$6:$C$105,"<>",$C$6:$C$105,C17)>1 -> FALSE
... A105: 100 | AB105: {=IFERROR(IF(COUNTA('Detailed Inventory'!$B105:$AA105)=0,"",IF(AND($B105="",$C105=""),"Error: Missing Response in Column B or C",IF(OR($E105="",$Q105=""),"Error: Missing Response in Column E or Q",INDEX(SL_Class[Entire SL Classification],MATCH(SUMIFS(SL_Class[Unique ID],SL_Class[UpSys SL Material],I105,SL_Class[UpSys Ever Previously Lead],H105,SL_Class[DownCus SL Material],T105),SL_Class[Unique ID],0),0)))),"Error: Invalid Column H, I, or T. Check spelling & valid options (see dropdown)")} | AD105: =COUNTIFS($B$6:$B$105,"<>0",$B$6:$B$105,"<>",$B$6:$B$105,B105)>1 -> FALSE | AE105: =COUNTIFS($C$6:$C$105,"<>0",$C$6:$C$105,"<>",$C$6:$C$105,C105)>1 -> FALSE
A106: END OF POSSIBLE SERVICE LINE ENTRIES - IF MORE ENTRIES ARE REQUIRED DOWNLOAD THE LARGER TEMPLATE OR CONTACT DDW-LCR@waterboards.ca.gov

Sheet Dropdowns
A1: Connector Material | B1: Connector Basis of Material Classification | C1: Upstream/System Service Line Material | D1: Downstream/Customer Service Line Material | E1: Was Upstream/System Side Service Line Ever Previously Lead? | F1: Upstream/System Service Line Basis of Material Classification | G1: Downstream/Customer Service Line Basis of Material Classification | H1: Service Line Field Verification Method | I1: Submission Type | J1: Reporting Period | K1: Water System Type | L1: Service Line Ownership Type | M1: Yes/No
A2: No connector present | B2: Historical records | C2: Lead | D2: Lead | E2: Yes | F2: Historical records | G2: Historical records | H2: Visual inspection at meter pit | I2: Select | J2: Select | K2: Select | L2: Select | M2: Select
A3: Lead | B3: Installation date is after state or local lead ban | C3: Galvanized | D3: Galvanized | E3: No | F3: Installation date is after state or local lead ban | G3: Installation date is after state or local lead ban | H3: Visual inspection - other (not at meter pit) | I3: LCRI Baseline | J3: Pre-LCRI (up to November 2027) | K3: Community | L3: The entire service line is owned by the water system | M3: Yes
A4: Galvanized | B4: Statistical analysis | C4: Non-Lead - Copper | D4: Galvanized Requiring Replacement | E4: Don't know | F4: Service line diameter 4 inches or greater | G4: Service line diameter 4 inches or greater | H4: Customer self-identification | I4: LCRI Update | J4: November 2027 - December 2028 | K4: Non-Transient Non-Community | L4: The entire service line is owned by the customer | M4: No
A5: Non-Lead - Copper | B5: Visual inspection | C5: Non-Lead - Plastic | D5: Non-Lead - Copper | F5: Service line repair or replacement record | G5: Service line repair or replacement record | H5: Mechanical excavation at one location | J5: January - December 2029 | L5: Ownership is split; The system owns a portion, and the customer owns a portion | M5: NA
A6: Non-Lead - Plastic | B6: Mechanical excavation | C6: Non-Lead - Other | D6: Non-Lead - Plastic | F6: Statistical analysis or predictive models | G6: Statistical analysis or predictive models | H6: Mechanical excavation at multiple locations | J6: January - December 2030 | L6: Other (describe below)
A7: Non-Lead - Other | B7: Replaced or removed - previously Lead | C7: Unknown | D7: Non-Lead - Other | F7: Interpolation | G7: Interpolation | H7: Other (Explain in Notes) | J7: January - December 2031
A8: Unknown | B8: Replaced or removed - previously Non-Lead | D8: Unknown | F8: Field inspection | G8: Field inspection | J8: January - December 2032
B9: Other (Explain in Notes) | F9: Other (Explain in Notes) | G9: Other (Explain in Notes) | J9: January - December 2033
F10: Replaced - previously Non-Lead/Galvanized | G10: Replaced - previously Non-Lead/Galvanized | J10: January - December 2034
F11: Replaced - previously Lead | G11: Replaced - previously Lead | J11: January - December 2035
G12: Replaced - previously Galvanized Requiring Replacement | J12: January - December 2036
J13: January - December 2037
J14: January - December 2038
J15: January - December 2039
J16: January - December 2040
J17: January - December 2041
J18: January - December 2042
J19: January - December 2043
J20: January - December 2044
J21: January - December 2045
J22: January - December 2046
J23: January - December 2047

Sheet SL Classification Table
A1: UpSys SL Material | B1: UpSys Ever Previously Lead | C1: DownCus SL Material | D1: Entire SL Classification | E1: Unique ID
A2: Lead | B2: Yes | C2: Lead | D2: Lead | E2: 101
A3: Lead | B3: Yes | C3: Galvanized Requiring Replacement | D3: Lead | E3: 102
A4: Lead | B4: Yes | C4: Galvanized | D4: Error: Column T considered GRR | E4: 103
A5: Lead | B5: Yes | C5: Non-Lead - Other | D5: Lead | E5: 104
A6: Lead | B6: Yes | C6: Non-Lead - Plastic | D6: Lead | E6: 105
A7: Lead | B7: Yes | C7: Non-Lead - Copper | D7: Lead | E7: 106
A8: Lead | B8: Yes | C8: Unknown | D8: Lead | E8: 107
A9: Lead | B9: Yes | C9: 0 | D9: Error: Missing Column T | E9: 108
A10: Lead | B10: Don't know | C10: Lead | D10: Lead | E10: 109
A11: Lead | B11: Don't know | C11: Galvanized Requiring Replacement | D11: Lead | E11: 110
A12: Lead | B12: Don't know | C12: Galvanized | D12: Error: Column T considered GRR | E12: 111
A13: Lead | B13: Don't know | C13: Non-Lead - Other | D13: Lead | E13: 112
A14: Lead | B14: Don't know | C14: Non-Lead - Plastic | D14: Lead | E14: 113
A15: Lead | B15: Don't know | C15: Non-Lead - Copper | D15: Lead | E15: 114
A16: Lead | B16: Don't know | C16: Unknown | D16: Lead | E16: 115
A17: Lead | B17: Don't know | C17: 0 | D17: Error: Missing Column T | E17: 116
A18: Lead | B18: No | C18: Lead | D18: Lead | E18: 117
A19: Lead | B19: No | C19: Galvanized Requiring Replacement | D19: Lead | E19: 118
A20: Lead | B20: No | C20: Galvanized | D20: Error: Column T considered GRR | E20: 119
A21: Lead | B21: No | C21: Non-Lead - Other | D21: Lead | E21: 120
A22: Lead | B22: No | C22: Non-Lead - Plastic | D22: Lead | E22: 121
A23: Lead | B23: No | C23: Non-Lead - Copper | D23: Lead | E23: 122
A24: Lead | B24: No | C24: Unknown | D24: Lead | E24: 123
A25: Lead | B25: No | C25: 0 | D25: Error: Missing Column T | E25: 124
A26: Lead | B26: 0 | C26: Lead | D26: Lead | E26: 125
A27: Lead | B27: 0 | C27: Galvanized Requiring Replacement | D27: Lead | E27: 126
A28: Lead | B28: 0 | C28: Galvanized | D28: Error: Column T considered GRR | E28: 127
A29: Lead | B29: 0 | C29: Non-Lead - Other | D29: Lead | E29: 128
A30: Lead | B30: 0 | C30: Non-Lead - Plastic | D30: Lead | E30: 129
A31: Lead | B31: 0 | C31: Non-Lead - Copper | D31: Lead | E31: 130
A32: Lead | B32: 0 | C32: Unknown | D32: Lead | E32: 131
A33: Lead | B33: 0 | C33: 0 | D33: Error: Missing Column T | E33: 132
A34: Galvanized | B34: Yes | C34: Lead | D34: Lead | E34: 133
A35: Galvanized | B35: Yes | C35: Galvanized Requiring Replacement | D35: Galvanized Requiring Replacement | E35: 134
A36: Galvanized | B36: Yes | C36: Galvanized | D36: Error: Column T considered GRR | E36: 135
A37: Galvanized | B37: Yes | C37: Non-Lead - Other | D37: Non-lead | E37: 136
A38: Galvanized | B38: Yes | C38: Non-Lead - Copper | D38: Non-lead | E38: 137
A39: Galvanized | B39: Yes | C39: Non-Lead - Plastic | D39: Non-lead | E39: 138
A40: Galvanized | B40: Yes | C40: Unknown | D40: Lead Status Unknown | E40: 139
A41: Galvanized | B41: Yes | C41: 0 | D41: Error: Missing Column T | E41: 140
A42: Galvanized | B42: Don't know | C42: Lead | D42: Lead | E42: 141
A43: Galvanized | B43: Don't know | C43: Galvanized Requiring Replacement | D43: Galvanized Requiring Replacement | E43: 142
A44: Galvanized | B44: Don't know | C44: Galvanized | D44: Error: Column T considered GRR | E44: 143
A45: Galvanized | B45: Don't know | C45: Non-Lead - Other | D45: Non-lead | E45: 144
A46: Galvanized | B46: Don't know | C46: Non-Lead - Copper | D46: Non-lead | E46: 145
A47: Galvanized | B47: Don't know | C47: Non-Lead - Plastic | D47: Non-lead | E47: 146
A48: Galvanized | B48: Don't know | C48: Unknown | D48: Lead Status Unknown | E48: 147
A49: Galvanized | B49: Don't know | C49: 0 | D49: Error: Missing Column T | E49: 148
A50: Galvanized | B50: No | C50: Lead | D50: Lead | E50: 149
A51: Galvanized | B51: No | C51: Galvanized Requiring Replacement | D51: Error: Column T considered Galvanized | E51: 150
A52: Galvanized | B52: No | C52: Galvanized | D52: Non-lead | E52: 151
A53: Galvanized | B53: No | C53: Non-Lead - Other | D53: Non-lead | E53: 152
A54: Galvanized | B54: No | C54: Non-Lead - Copper | D54: Non-lead | E54: 153
A55: Galvanized | B55: No | C55: Non-Lead - Plastic | D55: Non-lead | E55: 154
A56: Galvanized | B56: No | C56: Unknown | D56: Lead Status Unknown | E56: 155
A57: Galvanized | B57: No | C57: 0 | D57: Error: Missing Column T | E57: 156
A58: Galvanized | B58: 0 | C58: Lead | D58: Error: Missing Column H | E58: 157
A59: Galvanized | B59: 0 | C59: Galvanized Requiring Replacement | D59: Error: Missing Column H | E59: 158
A60: Galvanized | B60: 0 | C60: Galvanized | D60: Error: Missing Column H | E60: 159
A61: Galvanized | B61: 0 | C61: Non-Lead - Other | D61: Error: Missing Column H | E61: 160
A62: Galvanized | B62: 0 | C62: Non-Lead - Copper | D62: Error: Missing Column H | E62: 161
A63: Galvanized | B63: 0 | C63: Non-Lead - Plastic | D63: Error: Missing Column H | E63: 162
A64: Galvanized | B64: 0 | C64: Unknown | D64: Error: Missing Column H | E64: 163
A65: Galvanized | B65: 0 | C65: 0 | D65: Error: Missing Column H and Column T | E65: 164
A66: Non-Lead - Other | B66: Yes | C66: Lead | D66: Lead | E66: 165
A67: Non-Lead - Other | B67: Yes | C67: Galvanized Requiring Replacement | D67: Galvanized Requiring Replacement | E67: 166
A68: Non-Lead - Other | B68: Yes | C68: Galvanized | D68: Error: Column T considered GRR | E68: 167
A69: Non-Lead - Other | B69: Yes | C69: Non-Lead - Other | D69: Non-lead | E69: 168
A70: Non-Lead - Other | B70: Yes | C70: Non-Lead - Plastic | D70: Non-lead | E70: 169
A71: Non-Lead - Other | B71: Yes | C71: Non-Lead - Copper | D71: Non-lead | E71: 170
A72: Non-Lead - Other | B72: Yes | C72: Unknown | D72: Lead Status Unknown | E72: 171
A73: Non-Lead - Other | B73: Yes | C73: 0 | D73: Error: Missing Column T | E73: 172
A74: Non-Lead - Other | B74: Don't know | C74: Lead | D74: Lead | E74: 173
A75: Non-Lead - Other | B75: Don't know | C75: Galvanized Requiring Replacement | D75: Galvanized Requiring Replacement | E75: 174
A76: Non-Lead - Other | B76: Don't know | C76: Galvanized | D76: Error: Column T considered GRR | E76: 175
A77: Non-Lead - Other | B77: Don't know | C77: Non-Lead - Other | D77: Non-lead | E77: 176
A78: Non-Lead - Other | B78: Don't know | C78: Non-Lead - Plastic | D78: Non-lead | E78: 177
A79: Non-Lead - Other | B79: Don't know | C79: Non-Lead - Copper | D79: Non-lead | E79: 178
A80: Non-Lead - Other | B80: Don't know | C80: Unknown | D80: Lead Status Unknown | E80: 179
A81: Non-Lead - Other | B81: Don't know | C81: 0 | D81: Error: Missing Column T | E81: 180
A82: Non-Lead - Other | B82: No | C82: Lead | D82: Lead | E82: 181
A83: Non-Lead - Other | B83: No | C83: Galvanized Requiring Replacement | D83: Error: Column T considered Galvanized | E83: 182
A84: Non-Lead - Other | B84: No | C84: Galvanized | D84: Non-lead | E84: 183
A85: Non-Lead - Other | B85: No | C85: Non-Lead - Other | D85: Non-lead | E85: 184
A86: Non-Lead - Other | B86: No | C86: Non-Lead - Plastic | D86: Non-lead | E86: 185
A87: Non-Lead - Other | B87: No | C87: Non-Lead - Copper | D87: Non-lead | E87: 186
A88: Non-Lead - Other | B88: No | C88: Unknown | D88: Lead Status Unknown | E88: 187
A89: Non-Lead - Other | B89: No | C89: 0 | D89: Error: Missing Column T | E89: 188
A90: Non-Lead - Other | B90: 0 | C90: Lead | D90: Error: Missing Column H | E90: 189
A91: Non-Lead - Other | B91: 0 | C91: Galvanized Requiring Replacement | D91: Error: Missing Column H | E91: 190
A92: Non-Lead - Other | B92: 0 | C92: Galvanized | D92: Error: Missing Column H | E92: 191
A93: Non-Lead - Other | B93: 0 | C93: Non-Lead - Other | D93: Error: Missing Column H | E93: 192
A94: Non-Lead - Other | B94: 0 | C94: Non-Lead - Plastic | D94: Error: Missing Column H | E94: 193
A95: Non-Lead - Other | B95: 0 | C95: Non-Lead - Copper | D95: Error: Missing Column H | E95: 194
A96: Non-Lead - Other | B96: 0 | C96: Unknown | D96: Error: Missing Column H | E96: 195
A97: Non-Lead - Other | B97: 0 | C97: 0 | D97: Error: Missing Column H and Column T | E97: 196
A98: Non-Lead - Plastic | B98: Yes | C98: Lead | D98: Lead | E98: 197
A99: Non-Lead - Plastic | B99: Yes | C99: Galvanized Requiring Replacement | D99: Galvanized Requiring Replacement | E99: 198
A100: Non-Lead - Plastic | B100: Yes | C100: Galvanized | D100: Error: Column T considered GRR | E100: 199
...

Sheet LCR Team Review
A1: Template Version Date: 10/06/2026
A3: Submission Ready Checks
A4: Check | B4: Number of Issues | C4: True Issue? | D4: Notes
A5: Material classification = "Error" | B5: =COUNTIF('Detailed Inventory'!$AB$6:$AB$105,"*Error*") -> 0 | C5: Select | D5: Needs to be resolved for valid submission.
A6: Address is repeated (not both) | B6: =COUNTIFS('Detailed Inventory'!$AD$6:$AD$105,TRUE) -> 0 | C6: Select | D6: If > 0, check Column B&C for repeated SLs
A7: Other Locational Identifier is Repeated | B7: =COUNTIF('Detailed Inventory'!$AE$6:$AE$105,TRUE) -> 0 | D7: If > 0, check Column B&C for repeated SLs
A9: Service Line Count Check
A10: Check | B10: # LSLI Lines in Inventory - # SDWIS Service Connections | C10: Any Discrepancy Explained? (e.g., Report tab 9b) | D10: Notes
A11: Discrepancy in service line count | B11: ='Inventory Report'!D24-'Inventory Report'!D22 -> 0 | C11: Select | D11: *Red = # in LSLI < # in SDWIS, Yellow = # in LSLI > # in SDWIS
A13: Check for Conditional Column Completion
B14: Service Lines | D14: Connectors
A15: Conditional Column Issue | B15: Number of Water System Owned Service Lines | C15: Number of Customer Owned Service Lines | D15: Number of Upstream Connectors | E15: Number of Downstream Connectors | F15: Notes
A16: Material identified (not blank or Unknown) but Basis blank | B16: =COUNTIFS('Detailed Inventory'!$I$6:$I$105,"<>",'Detailed Inventory'!$I$6:$I$105,"<>Unknown",'Detailed Inventory'!$J$6:$J$105,"") -> 0 | C16: =COUNTIFS('Detailed Inventory'!$T$6:$T$105,"<>",'Detailed Inventory'!$T$6:$T$105,"<>Unknown",'Detailed Inventory'!$U$6:$U$105,"") -> 0 | D16: =COUNTIFS('Detailed Inventory'!$E$6:$E$105,"<>",'Detailed Inventory'!$E$6:$E$105,"<>Unknown",'Detailed Inventory'!$E$6:$E$105,"<>No Connector Present",'Detailed Inventory'!$F$6:$F$105,"") -> 0 | E16: =COUNTIFS('Detailed Inventory'!$Q$6:$Q$105,"<>",'Detailed Inventory'!$Q$6:$Q$105,"<>Unknown",'Detailed Inventory'!$Q$6:$Q$105,"<>No Connector Present",'Detailed Inventory'!$R$6:$R$105,"") -> 0
A17: Basis = Installation date, but Installation Date is blank or before 1986 | B17: =COUNTIFS('Detailed Inventory'!$J$6:$J$105,"Installation date is after state or local lead ban",'Detailed Inventory'!$K$6:$K$105,"") -> 0 | C17: =COUNTIFS('Detailed Inventory'!$U$6:$U$105,"Installation date is after state or local lead ban",'Detailed Inventory'!$V$6:$V$105,"") -> 0 | D17: n/a | E17: n/a | F17: Some dates/years may be double counted.
A18: Basis = Diameter, but Line Diameter is blank or < 4 inches | B18: {=SUM(COUNTIFS('Detailed Inventory'!$J$6:$J$105,"Service line diameter 4 inches or greater",'Detailed Inventory'!$L$6:$L$105,{"","<4"}))} -> 0 | C18: {=SUM(COUNTIFS('Detailed Inventory'!$U$6:$U$105,"Service line diameter 4 inches or greater",'Detailed Inventory'!$W$6:$W$105,{"","<4"}))} -> 0 | D18: n/a | E18: n/a
A19: Basis = Field inspection, but Inspection Method and/or Inspection Date are blank | B19: =COUNTIFS('Detailed Inventory'!$J$6:$J$105,"Field inspection",'Detailed Inventory'!$M$6:$M$105,"")+COUNTIFS('Detailed Inventory'!$J$6:$J$105,"Field inspection",'Detailed Inventory'!$N$6:$N$105,"") -> 0 | C19: =COUNTIFS('Detailed Inventory'!$U$6:$U$105,"Field inspection",'Detailed Inventory'!$X$6:$X$105,"") -> 0 | D19: n/a | E19: n/a | F19: May be double counted if both are blank.
A20: Material Basis = Other, but Note is blank | B20: =COUNTIFS('Detailed Inventory'!$J$6:$J$105,"Other (Explain in Notes)",'Detailed Inventory'!$P$6:$P$105,"") -> 0 | C20: =COUNTIFS('Detailed Inventory'!$U$6:$U$105,"Other (Explain in Notes)",'Detailed Inventory'!$AA$6:$AA$105,"") -> 0 | D20: =COUNTIFS('Detailed Inventory'!$F$6:$F$105,"Other (Explain in Notes)",'Detailed Inventory'!$G$6:$G$105,"") -> 0 | E20: =COUNTIFS('Detailed Inventory'!$R$6:$R$105,"Other (Explain in Notes)",'Detailed Inventory'!$S$6:$S$105,"") -> 0
A21: Basis = Replaced, but Replacement Date is blank | B21: =COUNTIFS('Detailed Inventory'!$J$6:$J$105,"Replaced*",'Detailed Inventory'!$O$6:$O$105,"") -> 0 | C21: =COUNTIFS('Detailed Inventory'!$U$6:$U$105,"Replaced*",'Detailed Inventory'!$Z$6:$Z$105,"") -> 0 | D21: n/a | E21: n/a
A22: Material = Non-Lead - Other & Basis = Historical records / Inspection / Other | B22: {=SUM(COUNTIFS('Detailed Inventory'!$I$6:$I$105,"Non-Lead - Other",'Detailed Inventory'!$J$6:$J$105,{"Historical*","Field*","Other*"}))} -> 0 | C22: {=SUM(COUNTIFS('Detailed Inventory'!$T$6:$T$105,"Non-Lead - Other",'Detailed Inventory'!$U$6:$U$105,{"Historical*","Field*","Other*"}))} -> 0 | D22: {=SUM(COUNTIFS('Detailed Inventory'!$E$6:$E$105,"Non-Lead - Other",'Detailed Inventory'!$F$6:$F$105,{"Historical*","Field*","Other*"}))} -> 0 | E22: {=SUM(COUNTIFS('Detailed Inventory'!$Q$6:$Q$105,"Non-Lead - Other",'Detailed Inventory'!$R$6:$R$105,{"Historical*","Field*","Other*"}))} -> 0 | F22: If any of these scenarios, check the Note to make sure they indicate the Non-Lead material
A23: Material = NOT Non-Lead - Other, Basis = Statistical / Interpolation | B23: {=SUM(COUNTIFS('Detailed Inventory'!$I$6:$I$105,"<>Non-Lead - Other",'Detailed Inventory'!$J$6:$J$105,{"Statistical*","Interpolation*"}))} -> 0 | C23: {=SUM(COUNTIFS('Detailed Inventory'!$T$6:$T$105,"<>Non-Lead - Other",'Detailed Inventory'!$U$6:$U$105,{"Statistical*","Interpolation*"}))} -> 0 | D23: {=SUM(COUNTIFS('Detailed Inventory'!$E$6:$E$105,"<>Non-Lead - Other",'Detailed Inventory'!$F$6:$F$105,{"Statistical*","Interpolation*"}))} -> 0 | E23: {=SUM(COUNTIFS('Detailed Inventory'!$Q$6:$Q$105,"<>Non-Lead - Other",'Detailed Inventory'!$R$6:$R$105,{"Statistical*","Interpolation*"}))} -> 0 | F23: All materials with interpolation/statistical should be Non-Lead - Other. If not, have to have a different Basis
A25: Check for Non-Numbers in Number-Only Columns
B26: Service Lines
A27: Column Name | B27: Number of Water System Owned Service Lines | C27: Number of Customer Owned Service Lines | D27: Notes
A28: Installation Date | B28: =COUNTA('Detailed Inventory'!$K$6:$K$105)-COUNT('Detailed Inventory'!$K$6:$K$105) -> 0 | C28: =COUNTA('Detailed Inventory'!$V$6:$V$105)-COUNT('Detailed Inventory'!$V$6:$V$105) -> 0 | D28: May show a flag here if installation date is <1/1/1900 because Excel treats that as a non-number.
A29: Line Size | B29: =COUNTA('Detailed Inventory'!$L$6:$L$105)-COUNT('Detailed Inventory'!$L$6:$L$105) -> 0 | C29: =COUNTA('Detailed Inventory'!$W$6:$W$105)-COUNT('Detailed Inventory'!$W$6:$W$105) -> 0
A30: Field Inspection Date | B30: =COUNTA('Detailed Inventory'!$N$6:$N$105)-COUNT('Detailed Inventory'!$N$6:$N$105) -> 0 | C30: =COUNTA('Detailed Inventory'!$Y$6:$Y$105)-COUNT('Detailed Inventory'!$Y$6:$Y$105) -> 0
A31: Replaced Date | B31: =COUNTA('Detailed Inventory'!$O$6:$O$105)-COUNT('Detailed Inventory'!$O$6:$O$105) -> 0 | C31: =COUNTA('Detailed Inventory'!$Z$6:$Z$105)-COUNT('Detailed Inventory'!$Z$6:$Z$105) -> 0
A33: Material Basis Summary
B34: Service Lines | D34: Connectors
A35: Material Basis Responses | B35: Number of Water System Owned Service Lines | C35: Number of Customer Owned Service Lines | D35: Number of Upstream Connectors | E35: Number of Downstream Connectors | F35: Notes
A36: Historical records | B36: =COUNTIF('Detailed Inventory'!$J$6:$J$105,'LCR Team Review'!A36) -> 0 | C36: =COUNTIF('Detailed Inventory'!$U$6:$U$105,A36) -> 0 | D36: =COUNTIF('Detailed Inventory'!$F$6:$F$105,A36) -> 0 | E36: =COUNTIF('Detailed Inventory'!$R$6:$R$105,A36) -> 0
A37: Installation date is after state or local lead ban | B37: =COUNTIF('Detailed Inventory'!$J$6:$J$105,'LCR Team Review'!A37) -> 0 | C37: =COUNTIF('Detailed Inventory'!$U$6:$U$105,A37) -> 0 | D37: =COUNTIF('Detailed Inventory'!$F$6:$F$105,A37) -> 0 | E37: =COUNTIF('Detailed Inventory'!$R$6:$R$105,A37) -> 0
A38: Service line diameter 4 inches or greater | B38: =COUNTIF('Detailed Inventory'!$J$6:$J$105,'LCR Team Review'!A38) -> 0 | C38: =COUNTIF('Detailed Inventory'!$U$6:$U$105,A38) -> 0 | D38: =COUNTIF('Detailed Inventory'!$F$6:$F$105,A38) -> 0 | E38: =COUNTIF('Detailed Inventory'!$R$6:$R$105,A38) -> 0
A39: Service line repair or replacement record | B39: =COUNTIF('Detailed Inventory'!$J$6:$J$105,'LCR Team Review'!A39) -> 0 | C39: =COUNTIF('Detailed Inventory'!$U$6:$U$105,A39) -> 0 | D39: =COUNTIF('Detailed Inventory'!$F$6:$F$105,A39) -> 0 | E39: =COUNTIF('Detailed Inventory'!$R$6:$R$105,A39) -> 0
A40: Statistical analysis or predictive models | B40: =COUNTIF('Detailed Inventory'!$J$6:$J$105,'LCR Team Review'!A40) -> 0 | C40: =COUNTIF('Detailed Inventory'!$U$6:$U$105,A40) -> 0 | D40: =COUNTIF('Detailed Inventory'!$F$6:$F$105,A40) -> 0 | E40: =COUNTIF('Detailed Inventory'!$R$6:$R$105,A40) -> 0
A41: Interpolation | B41: =COUNTIF('Detailed Inventory'!$J$6:$J$105,'LCR Team Review'!A41) -> 0 | C41: =COUNTIF('Detailed Inventory'!$U$6:$U$105,A41) -> 0 | D41: =COUNTIF('Detailed Inventory'!$F$6:$F$105,A41) -> 0 | E41: =COUNTIF('Detailed Inventory'!$R$6:$R$105,A41) -> 0
A42: Field inspection | B42: =COUNTIF('Detailed Inventory'!$J$6:$J$105,'LCR Team Review'!A42) -> 0 | C42: =COUNTIF('Detailed Inventory'!$U$6:$U$105,A42) -> 0 | D42: =COUNTIF('Detailed Inventory'!$F$6:$F$105,A42) -> 0 | E42: =COUNTIF('Detailed Inventory'!$R$6:$R$105,A42) -> 0
A43: Other (Explain in Notes) | B43: =COUNTIF('Detailed Inventory'!$J$6:$J$105,'LCR Team Review'!A43) -> 0 | C43: =COUNTIF('Detailed Inventory'!$U$6:$U$105,A43) -> 0 | D43: =COUNTIF('Detailed Inventory'!$F$6:$F$105,A43) -> 0 | E43: =COUNTIF('Detailed Inventory'!$R$6:$R$105,A43) -> 0
A44: Replaced - previously Lead | B44: =COUNTIF('Detailed Inventory'!$J$6:$J$105,'LCR Team Review'!A44) -> 0 | C44: =COUNTIF('Detailed Inventory'!$U$6:$U$105,A44) -> 0 | D44: =COUNTIF('Detailed Inventory'!$F$6:$F$105,A44) -> 0 | E44: =COUNTIF('Detailed Inventory'!$R$6:$R$105,A44) -> 0
A45: Replaced - previously Galvanized Requiring Replacement | B45: n/a | C45: n/a | D45: =COUNTIF('Detailed Inventory'!$F$6:$F$105,A45) -> 0 | E45: =COUNTIF('Detailed Inventory'!$R$6:$R$105,A45) -> 0
A46: Replaced - previously Non-Lead/Galvanized | B46: =COUNTIF('Detailed Inventory'!$J$6:$J$105,'LCR Team Review'!A46) -> 0 | C46: =COUNTIF('Detailed Inventory'!$U$6:$U$105,A46) -> 0 | D46: =COUNTIF('Detailed Inventory'!$F$6:$F$105,A46) -> 0 | E46: =COUNTIF('Detailed Inventory'!$R$6:$R$105,A46) -> 0
A47: Removed | B47: n/a | C47: n/a | D47: =COUNTIF('Detailed Inventory'!$F$6:$F$105,A47) -> 0 | E47: =COUNTIF('Detailed Inventory'!$R$6:$R$105,A47) -> 0
A48: TOTAL | B48: =SUM(B36:B47) -> 0 | C48: =SUM(C36:C47) -> 0 | D48: =SUM(D36:D47) -> 0 | E48: =SUM(E36:E47) -> 0
A50: Statistical Work Summary
A51: Questions | B51: Service Lines | C51: Connectors | D51: Notes
A52: Does inventory use any Basis = statistical/interpolation? | B52: =SUM(B40:C41)>0 -> FALSE | C52: =SUM(D40:E41)>0 -> FALSE
A53: Did system submit statistical workplan? | B53: Select | C53: Select
A54: Did DDW approve statistical workplan? | B54: Select | C54: Select
A55: Did system achieve minimum required inspections for workplan? | B55: Select | C55: Select

Sheet LCR Report Data
A1: Question | B1: Q01 | C1: Q02 | D1: Q03 | E1: Q04 | F1: Q05a | G1: Q05b | H1: Q06 | I1: Q07 | J1: Q08 | K1: Q09 | L1: Q09a | M1: Q09b | N1: Q10a | O1: Q10b | P1: Q10c | Q1: Q10d | R1: Q11a | S1: Q11b | T1: Q11c | U1: Q11d | V1: Q12a | W1: Q12b | X1: Q12c | Y1: Q12d | Z1: Q13a | AA1: Q13b | AB1: Q13c | AC1: Q13d | AD1: Q13e | AE1: Q13f | AF1: Q14a | AG1: Q14b | AH1: Q14c | AI1: Q14d | AJ1: Q14e | AK1: Q14f | AL1: Q14g | AM1: Q14h | AN1: Q15a | AO1: Q15b | AP1: Q15c | AQ1: Q15d | AR1: Q15e | AS1: Q15f | AT1: Q15g | AU1: Q15h | AV1: Q15i | AW1: Q15j | AX1: Q16 | AY1: Q17a1 | AZ1: Q17a2 | BA1: Q17a3 | BB1: Q17a4 | BC1: Q17a5 | BD1: Q17b1 | BE1: Q17b2 | BF1: Q17b3 | BG1: Q17b4 | BH1: Q17b5 | BI1: Q17b6 | BJ1: Q17b7 | BK1: Q17b8 | BL1: Q18a | BM1: Q18b | BN1: Q18c | BO1: Q18d | BP1: Q19a | BQ1: Q19b | BR1: Q19c | BS1: Q19d | BT1: Q20a | BU1: Q20b | BV1: Q20c | BW1: Q20d | BX1: Q20e | BY1: Q20f | BZ1: Q20g | CA1: Q21a | CB1: Q21b | CC1: Q21c
A2: Response | B2: ='Inventory Report'!D5 -> Select | C2: ='Inventory Report'!D7 -> Select | D2: ='Inventory Report'!D11 -> CA0000000 | E2: ='Inventory Report'!D13 -> 0 | F2: ='Inventory Report'!D15 -> Address | G2: ='Inventory Report'!D16 -> City, State Zip Code | H2: ='Inventory Report'!D18 -> Select | I2: ='Inventory Report'!D20 -> 0 | J2: ='Inventory Report'!D22 -> 0 | K2: ='Inventory Report'!D24 -> 0 | L2: ='Inventory Report'!D26 -> Select | M2: ='Inventory Report'!D29 -> 0 | N2: ='Inventory Report'!D33 -> 0 | O2: ='Inventory Report'!D34 -> 0 | P2: ='Inventory Report'!D35 -> 0 | Q2: ='Inventory Report'!D36 -> 0 | R2: ='Inventory Report'!D39 -> 0 | S2: ='Inventory Report'!D40 -> 0 | T2: ='Inventory Report'!D41 -> 0 | U2: ='Inventory Report'!D42 -> 0 | V2: ='Inventory Report'!D49 -> 0 | W2: ='Inventory Report'!D52 -> 0 | X2: ='Inventory Report'!D55 -> 0 | Y2: ='Inventory Report'!D58 -> 0 | Z2: ='Inventory Report'!D64 -> Select | AA2: ='Inventory Report'!D65 -> Select | AB2: ='Inventory Report'!D66 -> Select | AC2: ='Inventory Report'!D67 -> Select | AD2: ='Inventory Report'!D68 -> Select | AE2: ='Inventory Report'!D69 -> 0 | AF2: ='Inventory Report'!D74 -> No | AG2: ='Inventory Report'!D75 -> No | AH2: ='Inventory Report'!D76 -> No | AI2: ='Inventory Report'!D77 -> No | AJ2: ='Inventory Report'!D78 -> No | AK2: ='Inventory Report'!D79 -> No | AL2: ='Inventory Report'!D80 -> Select | AM2: ='Inventory Report'!D81 -> 0 | AN2: ='Inventory Report'!D88 -> Select | AO2: ='Inventory Report'!D89 -> Select | AP2: ='Inventory Report'!D90 -> Select | AQ2: ='Inventory Report'!D91 -> Select | AR2: ='Inventory Report'!D92 -> Select | AS2: ='Inventory Report'!D93 -> Select | AT2: ='Inventory Report'!D94 -> Select | AU2: ='Inventory Report'!D95 -> Select | AV2: ='Inventory Report'!D96 -> Select | AW2: ='Inventory Report'!D97 -> 0 | AX2: ='Inventory Report'!C104 -> 0 | AY2: ='Inventory Report'!D115 -> 0 | AZ2: ='Inventory Report'!D116 -> 0 | BA2: ='Inventory Report'!D117 -> 0 | BB2: ='Inventory Report'!D118 -> 0 | BC2: ='Inventory Report'!D119 -> 0 | BD2: ='Inventory Report'!D125 -> 0 | BE2: ='Inventory Report'!D126 -> 0 | BF2: ='Inventory Report'!D127 -> 0 | BG2: ='Inventory Report'!D128 -> 0 | BH2: ='Inventory Report'!D129 -> 0 | BI2: ='Inventory Report'!D130 -> 0 | BJ2: ='Inventory Report'!D131 -> 0 | BK2: ='Inventory Report'!D132 -> 0 | BL2: ='Inventory Report'!D139 -> 0 | BM2: ='Inventory Report'!D140 -> 0 | BN2: ='Inventory Report'!D141 -> 0 | BO2: ='Inventory Report'!D142 -> 0 | BP2: ='Inventory Report'!D151 -> No | BQ2: ='Inventory Report'!D153 -> Enter service connections in Q8 | BR2: ='Inventory Report'!D155 -> No | BS2: ='Inventory Report'!D157 -> No | BT2: ='Inventory Report'!D162 -> 0 | BU2: ='Inventory Report'!D163 -> 0 | BV2: ='Inventory Report'!D164 -> 0 | BW2: ='Inventory Report'!D165 -> 0 | BX2: ='Inventory Report'!D166 -> 0 | BY2: ='Inventory Report'!D167 -> 0 | BZ2: ='Inventory Report'!D168 -> Select | CA2: ='Inventory Report'!C173 -> Enter Certifier Full Name | CB2: ='Inventory Report'!D175 -> Select | CC2: ='Inventory Report'!E175 -> Enter Date
